BEGIN:VCALENDAR
VERSION:2.0
PRODID:-//WFADS Official Site - ECPv6.15.16//NONSGML v1.0//EN
CALSCALE:GREGORIAN
METHOD:PUBLISH
X-WR-CALNAME:WFADS Official Site
X-ORIGINAL-URL:https://wfads.ch
X-WR-CALDESC:Events for WFADS Official Site
REFRESH-INTERVAL;VALUE=DURATION:PT1H
X-Robots-Tag:noindex
X-PUBLISHED-TTL:PT1H
BEGIN:VTIMEZONE
TZID:Asia/Dubai
BEGIN:STANDARD
TZOFFSETFROM:+0400
TZOFFSETTO:+0400
TZNAME:+04
DTSTART:20250101T000000
END:STANDARD
END:VTIMEZONE
BEGIN:VTIMEZONE
TZID:UTC
BEGIN:STANDARD
TZOFFSETFROM:+0000
TZOFFSETTO:+0000
TZNAME:UTC
DTSTART:20250101T000000
END:STANDARD
END:VTIMEZONE
BEGIN:VEVENT
DTSTART;VALUE=DATE:20260905
DTEND;VALUE=DATE:20260907
DTSTAMP:20260424T101330
CREATED:20251217T114423Z
LAST-MODIFIED:20260206T123158Z
UID:9615-1788566400-1788739199@wfads.ch
SUMMARY:Breaking Continental Championship
DESCRIPTION:WFADS returns to Africa with a Breaking Continental Championships in Algeria\, spotlighting the region’s most dynamic dancers alongside international contenders. A title event where power\, style\, and storytelling decide champions.
URL:https://wfads.ch/event/continental-breaking-algeria/
LOCATION:Algeria\, Algeria
CATEGORIES:Continental Championship,Junior Continental Championship
ATTACH;FMTTYPE=image/jpeg:https://wfads.ch/wp-content/uploads/2025/05/g7OoG7kFdvc.jpg
ORGANIZER;CN="WFADS":MAILTO:competitions@wfads.org
END:VEVENT
BEGIN:VEVENT
DTSTART;VALUE=DATE:20260926
DTEND;VALUE=DATE:20260928
DTSTAMP:20260424T101330
CREATED:20251217T114550Z
LAST-MODIFIED:20260206T123438Z
UID:9618-1790380800-1790553599@wfads.ch
SUMMARY:Breaking Continental Championship
DESCRIPTION:Hosted in the Republic of Korea\, this WFADS Breaking Continental Championships event delivers world-class production and world-class battles. Expect precision\, innovation\, and a deep field of contenders pushing the limits of modern Breaking.
URL:https://wfads.ch/event/breaking-continental-korea/
LOCATION:Korea\, Korea\, Republic of
CATEGORIES:Continental Championship,Junior Continental Championship
ATTACH;FMTTYPE=image/jpeg:https://wfads.ch/wp-content/uploads/2025/05/g7OoG7kFdvc.jpg
ORGANIZER;CN="WFADS":MAILTO:competitions@wfads.org
END:VEVENT
BEGIN:VEVENT
DTSTART;VALUE=DATE:20261001
DTEND;VALUE=DATE:20261002
DTSTAMP:20260424T101330
CREATED:20251217T102226Z
LAST-MODIFIED:20260217T094658Z
UID:9571-1790812800-1790899199@wfads.ch
SUMMARY:Breaking Continental Championships
DESCRIPTION:WFADS Breaking Continental Championships open the 2026 season with elite crews and top-ranked breakers competing for continental honours in Lille. Expect high-intensity battles\, headline judges\, and qualifying momentum that sets the tone for the year.
URL:https://wfads.ch/event/breaking-continental-championships/
LOCATION:Lille\, France
CATEGORIES:Continental Championship,Junior Continental Championship
ATTACH;FMTTYPE=image/jpeg:https://wfads.ch/wp-content/uploads/2025/05/g7OoG7kFdvc.jpg
ORGANIZER;CN="WFADS":MAILTO:competitions@wfads.org
END:VEVENT
BEGIN:VEVENT
DTSTART;VALUE=DATE:20261001
DTEND;VALUE=DATE:20261002
DTSTAMP:20260424T101330
CREATED:20251217T114720Z
LAST-MODIFIED:20251217T114720Z
UID:9621-1790812800-1790899199@wfads.ch
SUMMARY:Breaking Continental Championship
DESCRIPTION:Australia hosts a WFADS Breaking Continental Championships stop in October\, bringing continental prestige to one of the sport’s most exciting emerging stages. Dates will be announced—anticipate a landmark championship with strong international interest.
URL:https://wfads.ch/event/breaking-continental-australia/
LOCATION:Australia\, Australia
CATEGORIES:Continental Championship
ATTACH;FMTTYPE=image/jpeg:https://wfads.ch/wp-content/uploads/2025/05/g7OoG7kFdvc.jpg
ORGANIZER;CN="WFADS":MAILTO:competitions@wfads.org
END:VEVENT
BEGIN:VEVENT
DTSTART;VALUE=DATE:20261016
DTEND;VALUE=DATE:20261019
DTSTAMP:20260424T101330
CREATED:20260206T142017Z
LAST-MODIFIED:20260206T142017Z
UID:9927-1792108800-1792367999@wfads.ch
SUMMARY:Breaking Continental Championships
DESCRIPTION:
URL:https://wfads.ch/event/breaking-continental-championships-2/
LOCATION:Colombia\, Colombia
CATEGORIES:Continental Championship,Junior Continental Championship
ATTACH;FMTTYPE=image/jpeg:https://wfads.ch/wp-content/uploads/2026/02/g7OoG7kFdvc.jpg
ORGANIZER;CN="WFADS":MAILTO:competitions@wfads.org
END:VEVENT
END:VCALENDAR