BEGIN:VCALENDAR
VERSION:2.0
PRODID:-//WFADS Official Site - ECPv6.15.16//NONSGML v1.0//EN
CALSCALE:GREGORIAN
METHOD:PUBLISH
X-ORIGINAL-URL:https://wfads.ch
X-WR-CALDESC:Events for WFADS Official Site
REFRESH-INTERVAL;VALUE=DURATION:PT1H
X-Robots-Tag:noindex
X-PUBLISHED-TTL:PT1H
BEGIN:VTIMEZONE
TZID:UTC
BEGIN:STANDARD
TZOFFSETFROM:+0000
TZOFFSETTO:+0000
TZNAME:UTC
DTSTART:20250101T000000
END:STANDARD
END:VTIMEZONE
BEGIN:VTIMEZONE
TZID:Asia/Dubai
BEGIN:STANDARD
TZOFFSETFROM:+0400
TZOFFSETTO:+0400
TZNAME:+04
DTSTART:20250101T000000
END:STANDARD
END:VTIMEZONE
BEGIN:VEVENT
DTSTART;VALUE=DATE:20260926
DTEND;VALUE=DATE:20260927
DTSTAMP:20260425T144635
CREATED:20260206T141504Z
LAST-MODIFIED:20260213T155912Z
UID:9923-1790380800-1790467199@wfads.ch
SUMMARY:Acrobatic Rock’n’Roll International competitions «BECOME A CHAMPION» Stage 4
DESCRIPTION:Regulations on international competition WFADS 2026\n        \n                    File size: 277.47 KB\n                    Created: 13-02-2026\n                    Updated: 13-02-2026\n                    Hits: 1104\n        \n    \n    \n                                \n                    \n                    Download\n                \n                        \n                            \n                            Preview
URL:https://wfads.ch/event/acrobatic-rocknroll-international-competitions-become-a-champion-stage-4/
LOCATION:Minsk\, Belarus
CATEGORIES:International Competition
ATTACH;FMTTYPE=image/jpeg:https://wfads.ch/wp-content/uploads/2026/02/g7OoG7kFdvc.jpg
ORGANIZER;CN="WFADS":MAILTO:competitions@wfads.org
END:VEVENT
BEGIN:VEVENT
DTSTART;VALUE=DATE:20261021
DTEND;VALUE=DATE:20261024
DTSTAMP:20260425T144635
CREATED:20260206T142312Z
LAST-MODIFIED:20260206T142312Z
UID:9930-1792540800-1792799999@wfads.ch
SUMMARY:DanceSport International competitions
DESCRIPTION:
URL:https://wfads.ch/event/dancesport-international-competitions-2/
LOCATION:Moscow\, Russian Federation
CATEGORIES:International Competition
ATTACH;FMTTYPE=image/jpeg:https://wfads.ch/wp-content/uploads/2026/02/g7OoG7kFdvc.jpg
ORGANIZER;CN="WFADS":MAILTO:competitions@wfads.org
END:VEVENT
BEGIN:VEVENT
DTSTART;VALUE=DATE:20261114
DTEND;VALUE=DATE:20261116
DTSTAMP:20260425T144635
CREATED:20251217T115516Z
LAST-MODIFIED:20260206T123826Z
UID:9632-1794614400-1794787199@wfads.ch
SUMMARY:Breaking International Competition
DESCRIPTION:Running alongside the season’s major gatherings\, this WFADS Breaking International Competition offers a platform for breakthrough performances and international matchups. A high-value event for experience\, exposure\, and competitive momentum.
URL:https://wfads.ch/event/breaking-competition-moscow/
LOCATION:Moscow\, Russian Federation
CATEGORIES:International Competition
ATTACH;FMTTYPE=image/jpeg:https://wfads.ch/wp-content/uploads/2025/05/g7OoG7kFdvc.jpg
ORGANIZER;CN="WFADS":MAILTO:competitions@wfads.org
END:VEVENT
BEGIN:VEVENT
DTSTART;VALUE=DATE:20261208
DTEND;VALUE=DATE:20261209
DTSTAMP:20260425T144635
CREATED:20260206T142931Z
LAST-MODIFIED:20260213T160018Z
UID:9936-1796688000-1796774399@wfads.ch
SUMMARY:Acrobatic Rock’n’Roll International competitions «BECOME A CHAMPION» final
DESCRIPTION:Regulations on international competition WFADS 2026\n        \n                    File size: 277.47 KB\n                    Created: 13-02-2026\n                    Updated: 13-02-2026\n                    Hits: 1104\n        \n    \n    \n                                \n                    \n                    Download\n                \n                        \n                            \n                            Preview
URL:https://wfads.ch/event/acrobatic-rocknroll-international-competitions-become-a-champion-final/
LOCATION:Krasnogorsk\, Russian Federation
CATEGORIES:International Competition
ATTACH;FMTTYPE=image/jpeg:https://wfads.ch/wp-content/uploads/2026/02/g7OoG7kFdvc.jpg
ORGANIZER;CN="WFADS":MAILTO:competitions@wfads.org
END:VEVENT
END:VCALENDAR