BEGIN:VCALENDAR
VERSION:2.0
PRODID:-//WFADS Official Site - ECPv6.15.16//NONSGML v1.0//EN
CALSCALE:GREGORIAN
METHOD:PUBLISH
X-ORIGINAL-URL:https://wfads.ch
X-WR-CALDESC:Events for WFADS Official Site
REFRESH-INTERVAL;VALUE=DURATION:PT1H
X-Robots-Tag:noindex
X-PUBLISHED-TTL:PT1H
BEGIN:VTIMEZONE
TZID:Asia/Dubai
BEGIN:STANDARD
TZOFFSETFROM:+0400
TZOFFSETTO:+0400
TZNAME:+04
DTSTART:20250101T000000
END:STANDARD
END:VTIMEZONE
BEGIN:VEVENT
DTSTART;VALUE=DATE:20261218
DTEND;VALUE=DATE:20261219
DTSTAMP:20260424T170054
CREATED:20251217T120545Z
LAST-MODIFIED:20260206T124743Z
UID:9642-1797552000-1797638399@wfads.ch
SUMMARY:Breaking World Junior Championship
DESCRIPTION:WFADS Breaking World Junior Championships celebrate the next generation of champions in Dubai. A world-stage moment for youth talent—where future legends earn their first global titles and international recognition.
URL:https://wfads.ch/event/breaking-world-junior-uae/
LOCATION:Dubai\, United Arab Emirates
CATEGORIES:World Championship
ATTACH;FMTTYPE=image/jpeg:https://wfads.ch/wp-content/uploads/2025/05/g7OoG7kFdvc.jpg
ORGANIZER;CN="WFADS":MAILTO:competitions@wfads.org
END:VEVENT
END:VCALENDAR