BEGIN:VCALENDAR
VERSION:2.0
PRODID:-//WFADS Official Site - ECPv6.15.16//NONSGML v1.0//EN
CALSCALE:GREGORIAN
METHOD:PUBLISH
X-WR-CALNAME:WFADS Official Site
X-ORIGINAL-URL:https://wfads.ch
X-WR-CALDESC:Events for WFADS Official Site
REFRESH-INTERVAL;VALUE=DURATION:PT1H
X-Robots-Tag:noindex
X-PUBLISHED-TTL:PT1H
BEGIN:VTIMEZONE
TZID:UTC
BEGIN:STANDARD
TZOFFSETFROM:+0000
TZOFFSETTO:+0000
TZNAME:UTC
DTSTART:20240101T000000
END:STANDARD
END:VTIMEZONE
BEGIN:VTIMEZONE
TZID:Asia/Dubai
BEGIN:STANDARD
TZOFFSETFROM:+0400
TZOFFSETTO:+0400
TZNAME:+04
DTSTART:20240101T000000
END:STANDARD
END:VTIMEZONE
BEGIN:VEVENT
DTSTART;VALUE=DATE:20260314
DTEND;VALUE=DATE:20260315
DTSTAMP:20260425T165137
CREATED:20260206T130439Z
LAST-MODIFIED:20260213T155346Z
UID:9883-1773446400-1773532799@wfads.ch
SUMMARY:Acrobatic Rock’n’Roll International competitions «BECOME A CHAMPION» Stage 1
DESCRIPTION:Regulations on international competition WFADS 2026\n        \n                    File size: 277.47 KB\n                    Created: 13-02-2026\n                    Updated: 13-02-2026\n                    Hits: 1105\n        \n    \n    \n                                \n                    \n                    Download\n                \n                        \n                            \n                            Preview
URL:https://wfads.ch/event/acrobatic-rocknroll-international-competitions-become-a-champion-stage-1/
LOCATION:Krasnogorsk\, Russian Federation
CATEGORIES:International Competition
ATTACH;FMTTYPE=image/jpeg:https://wfads.ch/wp-content/uploads/2026/02/g7OoG7kFdvc.jpg
ORGANIZER;CN="WFADS":MAILTO:competitions@wfads.org
END:VEVENT
BEGIN:VEVENT
DTSTART;VALUE=DATE:20260314
DTEND;VALUE=DATE:20260315
DTSTAMP:20260425T165137
CREATED:20251217T105925Z
LAST-MODIFIED:20260216T113914Z
UID:9589-1773446400-1773532799@wfads.ch
SUMMARY:Acrobatic Rock'n'Roll African Championship
DESCRIPTION:Regulations ARR 14.03.2026\n        \n                    File size: 149.61 KB\n                    Created: 16-02-2026\n                    Updated: 16-02-2026\n                    Hits: 144\n        \n    \n    \n                                \n                    \n                    Download\n                \n                        \n                            \n                            Preview\n                        \n    \n\nWFADS Acrobatic Rock’n’Roll African Championship in Dakar brings explosive athleticism and showmanship to the continental title stage. A celebration of speed\, precision\, and partnership—where champions represent the region on the world circuit.
URL:https://wfads.ch/event/african-rocknroll-dakar/
LOCATION:Dakar\, Senegal
CATEGORIES:African Championship
ATTACH;FMTTYPE=image/jpeg:https://wfads.ch/wp-content/uploads/2025/05/g7OoG7kFdvc.jpg
ORGANIZER;CN="WFADS":MAILTO:competitions@wfads.org
END:VEVENT
BEGIN:VEVENT
DTSTART;VALUE=DATE:20260310
DTEND;VALUE=DATE:20260314
DTSTAMP:20260425T165137
CREATED:20260206T131537Z
LAST-MODIFIED:20260206T131537Z
UID:9887-1773100800-1773446399@wfads.ch
SUMMARY:Acrobatic Rock’n’Roll Training Camp
DESCRIPTION:
URL:https://wfads.ch/event/acrobatic-rocknroll-training-camp/
LOCATION:Dakar\, Senegal
CATEGORIES:Training Camp
ATTACH;FMTTYPE=image/jpeg:https://wfads.ch/wp-content/uploads/2026/02/g7OoG7kFdvc.jpg
ORGANIZER;CN="WFADS":MAILTO:competitions@wfads.org
END:VEVENT
BEGIN:VEVENT
DTSTART;VALUE=DATE:20260124
DTEND;VALUE=DATE:20260126
DTSTAMP:20260425T165137
CREATED:20260206T131826Z
LAST-MODIFIED:20260206T131826Z
UID:9889-1769212800-1769385599@wfads.ch
SUMMARY:Breaking International Competition
DESCRIPTION:
URL:https://wfads.ch/event/breaking-international-competition/
LOCATION:Minsk\, Belarus
CATEGORIES:International Competition
ORGANIZER;CN="WFADS":MAILTO:competitions@wfads.org
END:VEVENT
BEGIN:VEVENT
DTSTART;VALUE=DATE:20251220
DTEND;VALUE=DATE:20251221
DTSTAMP:20260425T165137
CREATED:20250929T142129Z
LAST-MODIFIED:20251217T110617Z
UID:9059-1766188800-1766275199@wfads.ch
SUMMARY:2025 WFADS Acrobatic Rock'n'Roll World Championship
DESCRIPTION:The WFADS Acrobatic Rock’n’Roll World Championship 2025 will bring together the best athletes from across the globe to compete in one of the most dynamic and spectacular disciplines of dance sport. Known for its breathtaking lifts\, lightning-fast footwork\, and high-energy choreography\, Acrobatic Rock’n’Roll is a discipline where athleticism meets artistry in unforgettable performances. \nWhat to Expect\nElite Competition – National champions and top-ranked couples will showcase their strength\, coordination\, and artistry in pursuit of the world title. \nMultiple Categories – Solo\, couple\, and formation events\, providing opportunities for dancers at different levels to shine. \nGlobal Representation – Participants from WFADS member federations around the world\, reflecting the truly international spirit of the sport. \nOlympic Values – Competitions held under strict safeguarding\, integrity\, and anti-doping standards to ensure fairness and credibility. \nWhy It Matters\nThe 2025 World Championship is more than just a competition — it is a celebration of movement\, culture\, and international friendship. By showcasing Acrobatic Rock’n’Roll at the highest level\, WFADS continues its mission to elevate dance sport globally and inspire the next generation of athletes. \n✨ Prepare for an event where rhythm meets power\, artistry meets acrobatics\, and the world’s best Rock’n’Roll athletes write the next chapter in dance sport history.
URL:https://wfads.ch/event/2025-wfads-acrobatic-rocknroll-world-championship/
LOCATION:Mubadala Arena\, Abu Dhabi\, Zayed Sports City\, Abu Dhabi\, United Arab Emirates
CATEGORIES:World Championship
ATTACH;FMTTYPE=image/jpeg:https://wfads.ch/wp-content/uploads/2025/09/pm8lsjiqcvcqu91dplm6foydg1mfje63.jpg
ORGANIZER;CN="WFADS":MAILTO:competitions@wfads.org
END:VEVENT
BEGIN:VEVENT
DTSTART;VALUE=DATE:20251219
DTEND;VALUE=DATE:20251221
DTSTAMP:20260425T165137
CREATED:20250929T141809Z
LAST-MODIFIED:20251217T112020Z
UID:9067-1766102400-1766275199@wfads.ch
SUMMARY:World Championship Breaking
DESCRIPTION:The World Breaking Championship brings together the best breakers from across the globe\, celebrating the roots of hip hop culture while elevating breaking as a world-class sport. Originating in the Bronx in the 1970s\, breaking has grown from an urban art form into an internationally recognized discipline\, now standing proudly on the biggest sporting stages. \nWhat to Expect\nElite Battles – The world’s top B-Boys and B-Girls facing off in dynamic\, high-energy competitions. \nAuthenticity & Culture – Staying true to hip hop’s spirit of creativity\, individuality\, and expression. \nSporting Excellence – Competitions judged on technique\, originality\, musicality\, and athletic performance. \nGlobal Unity – Athletes representing WFADS member federations worldwide\, highlighting breaking’s power to connect cultures. \nWhy It Matters\nThe World Breaking Championship is more than a contest — it is a platform where artistry\, athleticism\, and cultural identity converge. By honoring breaking’s heritage while upholding modern standards of fairness\, safeguarding\, and anti-doping compliance\, WFADS ensures the discipline continues to grow with integrity and inspire future generations. \n✨ The World Breaking Championship — where rhythm\, power\, and creativity redefine what sport can be.
URL:https://wfads.ch/event/19122025/
LOCATION:Emirates Sports Hotel\, Dubai\, United Arab Emirates
CATEGORIES:World Championship
ATTACH;FMTTYPE=image/jpeg:https://wfads.ch/wp-content/uploads/2025/09/dubai-breaking.jpg
ORGANIZER;CN="WFADS":MAILTO:competitions@wfads.org
END:VEVENT
END:VCALENDAR