BEGIN:VCALENDAR
VERSION:2.0
PRODID:-//WFADS Official Site - ECPv6.15.16//NONSGML v1.0//EN
CALSCALE:GREGORIAN
METHOD:PUBLISH
X-WR-CALNAME:WFADS Official Site
X-ORIGINAL-URL:https://wfads.ch
X-WR-CALDESC:Events for WFADS Official Site
REFRESH-INTERVAL;VALUE=DURATION:PT1H
X-Robots-Tag:noindex
X-PUBLISHED-TTL:PT1H
BEGIN:VTIMEZONE
TZID:Asia/Dubai
BEGIN:STANDARD
TZOFFSETFROM:+0400
TZOFFSETTO:+0400
TZNAME:+04
DTSTART:20250101T000000
END:STANDARD
END:VTIMEZONE
BEGIN:VEVENT
DTSTART;VALUE=DATE:20261219
DTEND;VALUE=DATE:20261221
DTSTAMP:20260425T131004
CREATED:20251217T120423Z
LAST-MODIFIED:20260206T124542Z
UID:9639-1797638400-1797811199@wfads.ch
SUMMARY:Breaking World Championship
DESCRIPTION:The WFADS Breaking World Championships in Dubai crown the world’s best—an end-of-year pinnacle where champions are defined by consistency\, composure\, and brilliance under pressure. Expect the season’s most iconic battles on a world-title stage.
URL:https://wfads.ch/event/breaking-world-championship-uae/
LOCATION:Dubai\, United Arab Emirates
CATEGORIES:World Championship
ATTACH;FMTTYPE=image/jpeg:https://wfads.ch/wp-content/uploads/2025/05/g7OoG7kFdvc.jpg
ORGANIZER;CN="WFADS":MAILTO:competitions@wfads.org
END:VEVENT
BEGIN:VEVENT
DTSTART;VALUE=DATE:20261220
DTEND;VALUE=DATE:20261221
DTSTAMP:20260425T131004
CREATED:20251217T120848Z
LAST-MODIFIED:20260206T121821Z
UID:9646-1797724800-1797811199@wfads.ch
SUMMARY:Acrobatic Rock'n'Roll World Championship
DESCRIPTION:Dubai closes the year with the WFADS Acrobatic Rock’n’Roll World Championship—an unforgettable finale where the best in the world compete for the sport’s highest honour. A world-title event designed to leave a legacy.
URL:https://wfads.ch/event/rocknroll-world-championship-uae/
LOCATION:Dubai\, United Arab Emirates
CATEGORIES:World Championship
ATTACH;FMTTYPE=image/jpeg:https://wfads.ch/wp-content/uploads/2025/05/g7OoG7kFdvc.jpg
ORGANIZER;CN="WFADS":MAILTO:competitions@wfads.org
END:VEVENT
END:VCALENDAR