BEGIN:VCALENDAR
VERSION:2.0
PRODID:-//WFADS Official Site - ECPv6.15.16//NONSGML v1.0//EN
CALSCALE:GREGORIAN
METHOD:PUBLISH
X-WR-CALNAME:WFADS Official Site
X-ORIGINAL-URL:https://wfads.ch
X-WR-CALDESC:Events for WFADS Official Site
REFRESH-INTERVAL;VALUE=DURATION:PT1H
X-Robots-Tag:noindex
X-PUBLISHED-TTL:PT1H
BEGIN:VTIMEZONE
TZID:UTC
BEGIN:STANDARD
TZOFFSETFROM:+0000
TZOFFSETTO:+0000
TZNAME:UTC
DTSTART:20250101T000000
END:STANDARD
END:VTIMEZONE
BEGIN:VTIMEZONE
TZID:Asia/Dubai
BEGIN:STANDARD
TZOFFSETFROM:+0400
TZOFFSETTO:+0400
TZNAME:+04
DTSTART:20250101T000000
END:STANDARD
END:VTIMEZONE
BEGIN:VEVENT
DTSTART;VALUE=DATE:20260421
DTEND;VALUE=DATE:20260425
DTSTAMP:20260424T100834
CREATED:20260206T132636Z
LAST-MODIFIED:20260206T132636Z
UID:9899-1776729600-1777075199@wfads.ch
SUMMARY:Acrobatic Rock’n’Roll Training Camp
DESCRIPTION:
URL:https://wfads.ch/event/acrobatic-rocknroll-training-camp-2/
LOCATION:New Delhi\, India
CATEGORIES:Training Camp
ATTACH;FMTTYPE=image/jpeg:https://wfads.ch/wp-content/uploads/2026/02/g7OoG7kFdvc.jpg
ORGANIZER;CN="WFADS":MAILTO:competitions@wfads.org
END:VEVENT
BEGIN:VEVENT
DTSTART;VALUE=DATE:20260425
DTEND;VALUE=DATE:20260426
DTSTAMP:20260424T100834
CREATED:20251217T110928Z
LAST-MODIFIED:20251217T112522Z
UID:9592-1777075200-1777161599@wfads.ch
SUMMARY:Acrobatic Rock'n'Roll Asian Championship
DESCRIPTION:New Delhi hosts the WFADS Acrobatic Rock’n’Roll Asian Championship—an action-packed event uniting the best of Asia’s competitive talent. Expect fearless choreography\, technical excellence\, and standout performances.
URL:https://wfads.ch/event/asian-rocknroll-delhi/
LOCATION:New Delhi\, India
CATEGORIES:Asian Championship
ATTACH;FMTTYPE=image/jpeg:https://wfads.ch/wp-content/uploads/2025/05/g7OoG7kFdvc.jpg
ORGANIZER;CN="WFADS":MAILTO:competitions@wfads.org
END:VEVENT
BEGIN:VEVENT
DTSTART;VALUE=DATE:20260425
DTEND;VALUE=DATE:20260427
DTSTAMP:20260424T100834
CREATED:20260206T132809Z
LAST-MODIFIED:20260206T132809Z
UID:9901-1777075200-1777247999@wfads.ch
SUMMARY:Breaking International Competition
DESCRIPTION:
URL:https://wfads.ch/event/breaking-international-competition-4/
LOCATION:Brazil\, Brazil
CATEGORIES:International Competition
ATTACH;FMTTYPE=image/jpeg:https://wfads.ch/wp-content/uploads/2026/02/g7OoG7kFdvc.jpg
ORGANIZER;CN="WFADS":MAILTO:competitions@wfads.org
END:VEVENT
END:VCALENDAR