BEGIN:VCALENDAR
VERSION:2.0
PRODID:-//WFADS Official Site - ECPv6.15.16//NONSGML v1.0//EN
CALSCALE:GREGORIAN
METHOD:PUBLISH
X-WR-CALNAME:WFADS Official Site
X-ORIGINAL-URL:https://wfads.ch
X-WR-CALDESC:Events for WFADS Official Site
REFRESH-INTERVAL;VALUE=DURATION:PT1H
X-Robots-Tag:noindex
X-PUBLISHED-TTL:PT1H
BEGIN:VTIMEZONE
TZID:UTC
BEGIN:STANDARD
TZOFFSETFROM:+0000
TZOFFSETTO:+0000
TZNAME:UTC
DTSTART:20250101T000000
END:STANDARD
END:VTIMEZONE
BEGIN:VEVENT
DTSTART;VALUE=DATE:20260613
DTEND;VALUE=DATE:20260614
DTSTAMP:20260424T151031
CREATED:20260206T134035Z
LAST-MODIFIED:20260213T155840Z
UID:9913-1781308800-1781395199@wfads.ch
SUMMARY:Acrobatic Rock’n’Roll International competitions «BECOME A CHAMPION» Stage 3
DESCRIPTION:Regulations on international competition WFADS 2026\n        \n                    File size: 277.47 KB\n                    Created: 13-02-2026\n                    Updated: 13-02-2026\n                    Hits: 1101\n        \n    \n    \n                                \n                    \n                    Download\n                \n                        \n                            \n                            Preview
URL:https://wfads.ch/event/acrobatic-rocknroll-international-competitions-become-a-champion-stage-3/
LOCATION:Astana\, Kazakhstan
CATEGORIES:International Competition
ATTACH;FMTTYPE=image/jpeg:https://wfads.ch/wp-content/uploads/2026/02/g7OoG7kFdvc.jpg
ORGANIZER;CN="WFADS":MAILTO:competitions@wfads.org
END:VEVENT
BEGIN:VEVENT
DTSTART;VALUE=DATE:20260630
DTEND;VALUE=DATE:20260704
DTSTAMP:20260424T151031
CREATED:20260206T134240Z
LAST-MODIFIED:20260206T134240Z
UID:9916-1782777600-1783123199@wfads.ch
SUMMARY:Acrobatic Rock’n’Roll Training Camp
DESCRIPTION:
URL:https://wfads.ch/event/acrobatic-rocknroll-training-camp-3/
LOCATION:Lyon\, France
CATEGORIES:Training Camp
ATTACH;FMTTYPE=image/jpeg:https://wfads.ch/wp-content/uploads/2026/02/g7OoG7kFdvc.jpg
ORGANIZER;CN="WFADS":MAILTO:competitions@wfads.org
END:VEVENT
END:VCALENDAR