BEGIN:VCALENDAR
VERSION:2.0
PRODID:-//WFADS Official Site - ECPv6.15.16//NONSGML v1.0//EN
CALSCALE:GREGORIAN
METHOD:PUBLISH
X-ORIGINAL-URL:https://wfads.ch
X-WR-CALDESC:Events for WFADS Official Site
REFRESH-INTERVAL;VALUE=DURATION:PT1H
X-Robots-Tag:noindex
X-PUBLISHED-TTL:PT1H
BEGIN:VTIMEZONE
TZID:UTC
BEGIN:STANDARD
TZOFFSETFROM:+0000
TZOFFSETTO:+0000
TZNAME:UTC
DTSTART:20250101T000000
END:STANDARD
END:VTIMEZONE
BEGIN:VTIMEZONE
TZID:Asia/Dubai
BEGIN:STANDARD
TZOFFSETFROM:+0400
TZOFFSETTO:+0400
TZNAME:+04
DTSTART:20250101T000000
END:STANDARD
END:VTIMEZONE
BEGIN:VEVENT
DTSTART;VALUE=DATE:20260630
DTEND;VALUE=DATE:20260704
DTSTAMP:20260424T165533
CREATED:20260206T134240Z
LAST-MODIFIED:20260206T134240Z
UID:9916-1782777600-1783123199@wfads.ch
SUMMARY:Acrobatic Rock’n’Roll Training Camp
DESCRIPTION:
URL:https://wfads.ch/event/acrobatic-rocknroll-training-camp-3/
LOCATION:Lyon\, France
CATEGORIES:Training Camp
ATTACH;FMTTYPE=image/jpeg:https://wfads.ch/wp-content/uploads/2026/02/g7OoG7kFdvc.jpg
ORGANIZER;CN="WFADS":MAILTO:competitions@wfads.org
END:VEVENT
BEGIN:VEVENT
DTSTART;VALUE=DATE:20260704
DTEND;VALUE=DATE:20260705
DTSTAMP:20260424T165533
CREATED:20251217T113522Z
LAST-MODIFIED:20260206T122556Z
UID:9607-1783123200-1783209599@wfads.ch
SUMMARY:Acrobatic Rock'n'Roll World Cup
DESCRIPTION:The WFADS Acrobatic Rock’n’Roll World Cup in Lyon is a top-tier international event featuring elite pairs and teams battling for World Cup glory. A fast-paced spectacle where every routine demands absolute control and charisma.
URL:https://wfads.ch/event/rocknroll-world-cup-lyon/
LOCATION:Lyon\, France
CATEGORIES:World Cup
ATTACH;FMTTYPE=image/jpeg:https://wfads.ch/wp-content/uploads/2025/05/g7OoG7kFdvc.jpg
ORGANIZER;CN="WFADS":MAILTO:competitions@wfads.org
END:VEVENT
BEGIN:VEVENT
DTSTART;VALUE=DATE:20260704
DTEND;VALUE=DATE:20260705
DTSTAMP:20260424T165533
CREATED:20251217T113710Z
LAST-MODIFIED:20260206T122621Z
UID:9610-1783123200-1783209599@wfads.ch
SUMMARY:Acrobatic Rock'n'Roll World Championship
DESCRIPTION:On the same iconic date in Lyon\, WFADS presents the Acrobatic Rock’n’Roll World Championship—where the world title is decided. The season’s ultimate stage for athletes chasing legacy\, recognition\, and history.
URL:https://wfads.ch/event/rocknroll-world-championship-lyon/
LOCATION:Lyon\, France
CATEGORIES:World Championship
ATTACH;FMTTYPE=image/jpeg:https://wfads.ch/wp-content/uploads/2025/05/g7OoG7kFdvc.jpg
ORGANIZER;CN="WFADS":MAILTO:competitions@wfads.org
END:VEVENT
END:VCALENDAR