BEGIN:VCALENDAR
VERSION:2.0
PRODID:-//WFADS Official Site - ECPv6.15.16//NONSGML v1.0//EN
CALSCALE:GREGORIAN
METHOD:PUBLISH
X-WR-CALNAME:WFADS Official Site
X-ORIGINAL-URL:https://wfads.ch
X-WR-CALDESC:Events for WFADS Official Site
REFRESH-INTERVAL;VALUE=DURATION:PT1H
X-Robots-Tag:noindex
X-PUBLISHED-TTL:PT1H
BEGIN:VTIMEZONE
TZID:UTC
BEGIN:STANDARD
TZOFFSETFROM:+0000
TZOFFSETTO:+0000
TZNAME:UTC
DTSTART:20250101T000000
END:STANDARD
END:VTIMEZONE
BEGIN:VTIMEZONE
TZID:Asia/Dubai
BEGIN:STANDARD
TZOFFSETFROM:+0400
TZOFFSETTO:+0400
TZNAME:+04
DTSTART:20250101T000000
END:STANDARD
END:VTIMEZONE
BEGIN:VEVENT
DTSTART;VALUE=DATE:20261006
DTEND;VALUE=DATE:20261010
DTSTAMP:20260425T162434
CREATED:20260206T141814Z
LAST-MODIFIED:20260206T141814Z
UID:9925-1791244800-1791590399@wfads.ch
SUMMARY:Acrobatic Rock’n’Roll Training Camp
DESCRIPTION:
URL:https://wfads.ch/event/acrobatic-rocknroll-training-camp-4/
LOCATION:Mexico City\, Mexico
CATEGORIES:Training Camp
ATTACH;FMTTYPE=image/jpeg:https://wfads.ch/wp-content/uploads/2026/02/g7OoG7kFdvc.jpg
ORGANIZER;CN="WFADS":MAILTO:competitions@wfads.org
END:VEVENT
BEGIN:VEVENT
DTSTART;VALUE=DATE:20261010
DTEND;VALUE=DATE:20261011
DTSTAMP:20260425T162434
CREATED:20251217T114941Z
LAST-MODIFIED:20251217T114941Z
UID:9624-1791590400-1791676799@wfads.ch
SUMMARY:Acrobatic Rock'n'Roll American Cup
DESCRIPTION:Mexico City hosts the WFADS Acrobatic Rock’n’Roll American Cup\, spotlighting regional powerhouses and international challengers. A vibrant competition blending athletic intensity with show-level entertainment.
URL:https://wfads.ch/event/rocknroll-american-cup-mexico/
LOCATION:Mexico City\, Mexico
CATEGORIES:American Cup
ATTACH;FMTTYPE=image/jpeg:https://wfads.ch/wp-content/uploads/2025/05/g7OoG7kFdvc.jpg
ORGANIZER;CN="WFADS":MAILTO:competitions@wfads.org
END:VEVENT
END:VCALENDAR