BEGIN:VCALENDAR
VERSION:2.0
PRODID:-//WFADS Official Site - ECPv6.15.16//NONSGML v1.0//EN
CALSCALE:GREGORIAN
METHOD:PUBLISH
X-ORIGINAL-URL:https://wfads.ch
X-WR-CALDESC:Events for WFADS Official Site
REFRESH-INTERVAL;VALUE=DURATION:PT1H
X-Robots-Tag:noindex
X-PUBLISHED-TTL:PT1H
BEGIN:VTIMEZONE
TZID:Asia/Dubai
BEGIN:STANDARD
TZOFFSETFROM:+0400
TZOFFSETTO:+0400
TZNAME:+04
DTSTART:20250101T000000
END:STANDARD
END:VTIMEZONE
BEGIN:VEVENT
DTSTART;VALUE=DATE:20261001
DTEND;VALUE=DATE:20261002
DTSTAMP:20260425T111644
CREATED:20251217T102226Z
LAST-MODIFIED:20260217T094658Z
UID:9571-1790812800-1790899199@wfads.ch
SUMMARY:Breaking Continental Championships
DESCRIPTION:WFADS Breaking Continental Championships open the 2026 season with elite crews and top-ranked breakers competing for continental honours in Lille. Expect high-intensity battles\, headline judges\, and qualifying momentum that sets the tone for the year.
URL:https://wfads.ch/event/breaking-continental-championships/
LOCATION:Lille\, France
CATEGORIES:Continental Championship,Junior Continental Championship
ATTACH;FMTTYPE=image/jpeg:https://wfads.ch/wp-content/uploads/2025/05/g7OoG7kFdvc.jpg
ORGANIZER;CN="WFADS":MAILTO:competitions@wfads.org
END:VEVENT
BEGIN:VEVENT
DTSTART;VALUE=DATE:20261001
DTEND;VALUE=DATE:20261002
DTSTAMP:20260425T111644
CREATED:20251217T114720Z
LAST-MODIFIED:20251217T114720Z
UID:9621-1790812800-1790899199@wfads.ch
SUMMARY:Breaking Continental Championship
DESCRIPTION:Australia hosts a WFADS Breaking Continental Championships stop in October\, bringing continental prestige to one of the sport’s most exciting emerging stages. Dates will be announced—anticipate a landmark championship with strong international interest.
URL:https://wfads.ch/event/breaking-continental-australia/
LOCATION:Australia\, Australia
CATEGORIES:Continental Championship
ATTACH;FMTTYPE=image/jpeg:https://wfads.ch/wp-content/uploads/2025/05/g7OoG7kFdvc.jpg
ORGANIZER;CN="WFADS":MAILTO:competitions@wfads.org
END:VEVENT
END:VCALENDAR