BEGIN:VCALENDAR
VERSION:2.0
PRODID:-//WFADS Official Site - ECPv6.15.16//NONSGML v1.0//EN
CALSCALE:GREGORIAN
METHOD:PUBLISH
X-WR-CALNAME:WFADS Official Site
X-ORIGINAL-URL:https://wfads.ch
X-WR-CALDESC:Events for WFADS Official Site
REFRESH-INTERVAL;VALUE=DURATION:PT1H
X-Robots-Tag:noindex
X-PUBLISHED-TTL:PT1H
BEGIN:VTIMEZONE
TZID:UTC
BEGIN:STANDARD
TZOFFSETFROM:+0000
TZOFFSETTO:+0000
TZNAME:UTC
DTSTART:20250101T000000
END:STANDARD
END:VTIMEZONE
BEGIN:VEVENT
DTSTART;VALUE=DATE:20260609
DTEND;VALUE=DATE:20260612
DTSTAMP:20260424T101848
CREATED:20260206T133310Z
LAST-MODIFIED:20260206T133310Z
UID:9907-1780963200-1781222399@wfads.ch
SUMMARY:DanceSport Training Camp
DESCRIPTION:
URL:https://wfads.ch/event/dancesport-training-camp/
LOCATION:Moscow\, Russian Federation
CATEGORIES:Training Camp
ATTACH;FMTTYPE=image/jpeg:https://wfads.ch/wp-content/uploads/2026/02/g7OoG7kFdvc.jpg
ORGANIZER;CN="WFADS":MAILTO:competitions@wfads.org
END:VEVENT
END:VCALENDAR