BEGIN:VCALENDAR
VERSION:2.0
PRODID:-//WFADS Official Site - ECPv6.15.16//NONSGML v1.0//EN
CALSCALE:GREGORIAN
METHOD:PUBLISH
X-ORIGINAL-URL:https://wfads.ch
X-WR-CALDESC:Events for WFADS Official Site
REFRESH-INTERVAL;VALUE=DURATION:PT1H
X-Robots-Tag:noindex
X-PUBLISHED-TTL:PT1H
BEGIN:VTIMEZONE
TZID:UTC
BEGIN:STANDARD
TZOFFSETFROM:+0000
TZOFFSETTO:+0000
TZNAME:UTC
DTSTART:20250101T000000
END:STANDARD
END:VTIMEZONE
BEGIN:VTIMEZONE
TZID:Asia/Dubai
BEGIN:STANDARD
TZOFFSETFROM:+0400
TZOFFSETTO:+0400
TZNAME:+04
DTSTART:20250101T000000
END:STANDARD
END:VTIMEZONE
BEGIN:VEVENT
DTSTART;VALUE=DATE:20261024
DTEND;VALUE=DATE:20261027
DTSTAMP:20260424T084625
CREATED:20260206T142649Z
LAST-MODIFIED:20260206T142649Z
UID:9932-1792800000-1793059199@wfads.ch
SUMMARY:DanceSport Training Camp
DESCRIPTION:
URL:https://wfads.ch/event/dancesport-training-camp-3/
LOCATION:Moscow\, Russian Federation
CATEGORIES:Training Camp
ORGANIZER;CN="WFADS":MAILTO:competitions@wfads.org
END:VEVENT
BEGIN:VEVENT
DTSTART;VALUE=DATE:20261213
DTEND;VALUE=DATE:20261216
DTSTAMP:20260424T084625
CREATED:20260206T143132Z
LAST-MODIFIED:20260206T143132Z
UID:9938-1797120000-1797379199@wfads.ch
SUMMARY:DanceSport Training Camp
DESCRIPTION:
URL:https://wfads.ch/event/dancesport-training-camp-4/
LOCATION:Dubai\, United Arab Emirates
CATEGORIES:Training Camp
ATTACH;FMTTYPE=image/jpeg:https://wfads.ch/wp-content/uploads/2026/02/g7OoG7kFdvc.jpg
ORGANIZER;CN="WFADS":MAILTO:competitions@wfads.org
END:VEVENT
BEGIN:VEVENT
DTSTART;VALUE=DATE:20261216
DTEND;VALUE=DATE:20261219
DTSTAMP:20260424T084625
CREATED:20251217T120719Z
LAST-MODIFIED:20260206T124356Z
UID:9644-1797379200-1797638399@wfads.ch
SUMMARY:DanceSport World Cup Championship
DESCRIPTION:Dubai hosts a spectacular year-end WFADS DanceSport World Cup focused on Ballroom and Latin. A high-profile event combining world-class performance with the prestige of a global destination stage.
URL:https://wfads.ch/event/dancesport-world-cup-uae/
LOCATION:Dubai\, United Arab Emirates
CATEGORIES:World Cup
ATTACH;FMTTYPE=image/jpeg:https://wfads.ch/wp-content/uploads/2025/05/g7OoG7kFdvc.jpg
ORGANIZER;CN="WFADS":MAILTO:competitions@wfads.org
END:VEVENT
BEGIN:VEVENT
DTSTART;VALUE=DATE:20261217
DTEND;VALUE=DATE:20261218
DTSTAMP:20260424T084625
CREATED:20260206T144641Z
LAST-MODIFIED:20260206T144641Z
UID:9940-1797465600-1797551999@wfads.ch
SUMMARY:DanceSport World Championship
DESCRIPTION:
URL:https://wfads.ch/event/dancesport-world-championship/
LOCATION:Dubai\, United Arab Emirates
CATEGORIES:World Championship
ATTACH;FMTTYPE=image/jpeg:https://wfads.ch/wp-content/uploads/2026/02/g7OoG7kFdvc.jpg
ORGANIZER;CN="WFADS":MAILTO:competitions@wfads.org
END:VEVENT
END:VCALENDAR